BEGIN:VCALENDAR
VERSION:2.0
PRODID:-//Mec Spirit - ECPv6.15.20//NONSGML v1.0//EN
CALSCALE:GREGORIAN
METHOD:PUBLISH
X-WR-CALNAME:Mec Spirit
X-ORIGINAL-URL:https://mcspirit.nl
X-WR-CALDESC:Events for Mec Spirit
REFRESH-INTERVAL;VALUE=DURATION:PT1H
X-Robots-Tag:noindex
X-PUBLISHED-TTL:PT1H
BEGIN:VTIMEZONE
TZID:Europe/Amsterdam
BEGIN:DAYLIGHT
TZOFFSETFROM:+0100
TZOFFSETTO:+0200
TZNAME:CEST
DTSTART:20160327T010000
END:DAYLIGHT
BEGIN:STANDARD
TZOFFSETFROM:+0200
TZOFFSETTO:+0100
TZNAME:CET
DTSTART:20161030T010000
END:STANDARD
BEGIN:DAYLIGHT
TZOFFSETFROM:+0100
TZOFFSETTO:+0200
TZNAME:CEST
DTSTART:20170326T010000
END:DAYLIGHT
BEGIN:STANDARD
TZOFFSETFROM:+0200
TZOFFSETTO:+0100
TZNAME:CET
DTSTART:20171029T010000
END:STANDARD
BEGIN:DAYLIGHT
TZOFFSETFROM:+0100
TZOFFSETTO:+0200
TZNAME:CEST
DTSTART:20180325T010000
END:DAYLIGHT
BEGIN:STANDARD
TZOFFSETFROM:+0200
TZOFFSETTO:+0100
TZNAME:CET
DTSTART:20181028T010000
END:STANDARD
END:VTIMEZONE
BEGIN:VEVENT
DTSTART;TZID=Europe/Amsterdam:20171208T103000
DTEND;TZID=Europe/Amsterdam:20171208T124500
DTSTAMP:20260420T223637
CREATED:20170905T073645Z
LAST-MODIFIED:20171114T141328Z
UID:15137-1512729000-1512737100@mcspirit.nl
SUMMARY:Compassietraining (vervolgtraining) MBCL
DESCRIPTION:Compassievol Leven   (Mindfulness Based Compassionate Living) \nDeze wetenschappelijk onderbouwde training is bedoeld voor mensen die eerder hebben deelgenomen aan een Mindfulnesstraining en bekend zijn met de mindfulnessoefeningen en -meditaties. Waar bij de basistraining het accent lag op het openen van het innerlijke oog en het ontwikkelen van vriendelijke opmerkzaamheid\, verschuift bij deze training het accent naar het openen van ons hart voor wat zich voordoet. \n\n\n\n\nUit wetenschappelijk onderzoek naar de effecten van compassie blijkt dat het vermogen tot compassie bijdraagt aan onze gezondheid. Compassie ondersteunt ook het kunnen opvangen van tegenslagen. Zo heeft men gezien dat mensen die meer compassie ontwikkelen verantwoordelijker met moeilijkheden kunnen omgaan en minder angst ervaren voor falen en afwijzing. Ook is er meer emotionele balans en ontwikkelen zich gezonde relaties. Dit ondersteunt zelfrespect\, wijsheid en levensgeluk. Compassie of heartfulness is een wezenlijk component van mindfulness. Hoe zorgzamer en liefdevoller we kunnen opmerken en waarnemen wat er innerlijk aan de orde is\, hoe meer ruimte er komt om anders te leren omgaan met de grotere en kleinere stormen in ons leven. Het gevolg is dat we gemakkelijker het reageren vanuit oude automatische patronen kunnen loslaten. Er ontstaat vanzelf meer ruimte voor handelen uit innerlijke wijsheid. Hoe meer we werkelijk kunnen aanvaarden wat er is\, hoe meer we kunnen veranderen. \nEen andere belangrijke werkzame component bij mindfulnesstrainingen blijkt het ontwikkelen van een milde niet-oordelende houding te zijn. Hoe meer compassie we gaan ervaren voor onszelf\, hoe meer compassie we ook voor anderen kunnen voelen. Dit draagt bij aan het vermogen wat los te komen van te snel oordelen. Dit heeft een positief effect op ons leven en op ons contact met anderen. \nIn de compassietraining worden verschillende oefeningen (met audiobestanden) aangereikt en er wordt uitleg gegeven over de achtergrond daarvan. Ook is er ruimte voor uitwisseling en reflectie\, zodat op een dieper niveau ervaringen kunnen worden onderzocht. Dit draagt bij aan het ontwikkelen van compassie. De training bestaat uit 8 bijeenkomsten van 2\,5 uur. Je wordt uitgenodigd gedurende de training dagelijks ongeveer een 1/2 uur aan oefeningen te besteden.
URL:https://mcspirit.nl/evenement/compassietraining-vervolgtraining-mbcl/
LOCATION:Mec Spirit Koetshuis Madoera\, Javalaan 24\, Baarn\, Utrecht\, 3742 CP\, Netherlands
ATTACH;FMTTYPE=image/jpeg:https://mcspirit.nl/wp-content/uploads/2017/09/DOVEkopie.jpg
END:VEVENT
BEGIN:VEVENT
DTSTART;TZID=Europe/Amsterdam:20171207T193000
DTEND;TZID=Europe/Amsterdam:20171207T210000
DTSTAMP:20260420T223637
CREATED:20170829T105654Z
LAST-MODIFIED:20171114T153240Z
UID:15112-1512675000-1512680400@mcspirit.nl
SUMMARY:Dru Yoga: Vitaliteit\, balans en diepe ontspanning
DESCRIPTION:Hoewel we na een drukke dag de tijd nemen om uit te blazen\, vergeten we vaak de geest écht te legen en lichaam en ademhaling weer te ontspannen. Op de lange duur uit zich dat in tal van dingen: stijve schouders\, pijnlijke rug en stress\, maar ook in minder onschuldige aandoeningen. Dru yoga geeft je eigenlijk een soort ‘reset’. \nDoor regelmatige beoefening beweeg je je vrijer\, neemt je zelfvertrouwen toe en krijg je aanzienlijk meer rust en energie. Het is een uitstekend hulpmiddel voor iedereen die bewuster wil leven en persoonlijk wil groeien.  Het goede nieuws is: je hoeft helemaal niet lenig of superfit te zijn \n\n\n\n\n\nLucas Eisenhardt geeft sinds vier jaar les in Amsterdam. Daarnaast geeft hij yogasessies op diverse festivals.\nSinds september 2012 geeft Lucas Eisenhardt les in Baarn. Ook in het nieuwe jaar zullen de lessen gegeven worden bij Mec Spirit. De keuze is op Mec Spirit gevallen vanwege de grote en zeer sfeervolle ruimte met goede voorzieningen.\nIn de lessen zal gedurende meerdere weken met wisselende thema’s gewerkt worden. Daarbij worden gestructureerd een aantal handvatten aangereikt om zelf mee aan de slag te gaan. \nWees er op tijd bij\, want er is een beperkte hoeveelheid plekken. \n\n\n\n\n\nDru yoga is stevig verankerd in de oude yogatraditie. Het woord is afgeleid van Druva\, wat zoveel betekent als stilte en onveranderlijkheid. Dhruva Nakshatra is ook de benaming van de poolster\, die symbool staat voor het inwendig stiltepunt\, dat niet geroerd wordt\, ook niet middenin de drukte van alledag. \nDru yoga richt zich vooral op: \nAdemhaling \nVeelal hebben we maar weinig focus op de ademhaling\, waardoor deze vlak en onregelmatig wordt. In Dru Yoga gaan beweging en ademhaling hand in hand\, waarbij traditionele houdingen doorgaans dynamisch worden uitgevoerd. Met dat je bewust en langzaam beweegt wordt de ademhaling weer bewuster en dieper. Regelmatige en diepe ademhaling haalt je lichaam uit de stressmodus. Je voelt je fitter\, evenwichtiger en meer ontspannen. \n\n\n\n\n\nVerhogen lichaamsbewustzijn \nEen moderne West-Europeaan verwerkt per dag meer informatie dan iemand uit de Middeleeuwen in een heel jaar. De aandacht ligt zo veel bij het hoofd\, dat je het gevoel krijgt ‘niet meer in het lichaam te zitten’. Tijdens de Dru Yoga wordt met aandacht langzaam en vloeiend bewogen\, daardoor komt je aandacht weer in je lichaam en laat je eenvoudig je vermoeidheid los. \nOplossen van blokkades \nAanhoudend verkeerde houdingen of bewegingen\, stress\, maar ook fysieke of emotionele gebeurtenissen kunnen pijnlijke gewrichten en spieren tot gevolg hebben. Deze gevolgen kunnen zich uiteindelijk in de organen nestelen. Dru Yoga kent specifieke reeksen van oefeningen die dit proces omdraaien en het lichaam ontgiften. De natuurlijke balans in de organen wordt hersteld en door een herstelde juiste spierspanning kunnen bijvoorbeeld rug- en schouderklachten verminderen. \nDiepe ontspanning \nBij deze vorm van yoga is diepe ontspanning zeer belangrijk. Deze ontspanning zorgt ervoor dat de balans van lichaam en geest zich op diep niveau kan herstellen. Diepe ontspanning geeft nieuwe energie en meer levenslust. \nDru Yoga bij Mec Spirit \nDe lessen zijn op donderdag met uitzondering van schoolvakanties. \nDe eerste lessen in deze ruimte zijn gratis voor iedereen die zich aanmeldt.\nDe lessen duren elk anderhalf uur: 18.30 – 20.00 en 20.30 – 22.00. Kosten: €160\,- voor 13 weken.\nEr is een kennismakingsaanbod: 6 lessen voor €50\,-\, maar kom gerust langs voor een proefles  €10\,-.\nHet is in principe mogelijk om op elk moment in te stappen.
URL:https://mcspirit.nl/evenement/dru-yoga-vitaliteit-balans-en-diepe-ontspanning/
LOCATION:Mec Spirit Koetshuis Madoera\, Javalaan 24\, Baarn\, Utrecht\, 3742 CP\, Netherlands
ATTACH;FMTTYPE=image/jpeg:https://mcspirit.nl/wp-content/uploads/2016/06/blog-post-img-11.jpg
END:VEVENT
BEGIN:VEVENT
DTSTART;TZID=Europe/Amsterdam:20171207T093000
DTEND;TZID=Europe/Amsterdam:20171207T230000
DTSTAMP:20260420T223637
CREATED:20170905T065303Z
LAST-MODIFIED:20171114T153101Z
UID:15131-1512639000-1512687600@mcspirit.nl
SUMMARY:Dru Yoga: Vitaliteit\, balans en diepe ontspanning
DESCRIPTION:Hoewel we na een drukke dag de tijd nemen om uit te blazen\, vergeten we vaak de geest écht te legen en lichaam en ademhaling weer te ontspannen. Op de lange duur uit zich dat in tal van dingen: stijve schouders\, pijnlijke rug en stress\, maar ook in minder onschuldige aandoeningen. Dru yoga geeft je eigenlijk een soort ‘reset’. \nDoor regelmatige beoefening beweeg je je vrijer\, neemt je zelfvertrouwen toe en krijg je aanzienlijk meer rust en energie. Het is een uitstekend hulpmiddel voor iedereen die bewuster wil leven en persoonlijk wil groeien.  Het goede nieuws is: je hoeft helemaal niet lenig of superfit te zijn \n\n\n\n\nLucas Eisenhardt geeft sinds vier jaar les in Amsterdam. Daarnaast geeft hij yogasessies op diverse festivals.\nSinds september 2012 geeft Lucas Eisenhardt les in Baarn. Ook in het nieuwe jaar zullen de lessen gegeven worden bij Mec Spirit. De keuze is op Mec Spirit gevallen vanwege de grote en zeer sfeervolle ruimte met goede voorzieningen.\nIn de lessen zal gedurende meerdere weken met wisselende thema’s gewerkt worden. Daarbij worden gestructureerd een aantal handvatten aangereikt om zelf mee aan de slag te gaan. \nWees er op tijd bij\, want er is een beperkte hoeveelheid plekken. \n\n\n\n\n\nDru yoga is stevig verankerd in de oude yogatraditie. Het woord is afgeleid van Druva\, wat zoveel betekent als stilte en onveranderlijkheid. Dhruva Nakshatra is ook de benaming van de poolster\, die symbool staat voor het inwendig stiltepunt\, dat niet geroerd wordt\, ook niet middenin de drukte van alledag. \nDru yoga richt zich vooral op: \nAdemhaling \nVeelal hebben we maar weinig focus op de ademhaling\, waardoor deze vlak en onregelmatig wordt. In Dru Yoga gaan beweging en ademhaling hand in hand\, waarbij traditionele houdingen doorgaans dynamisch worden uitgevoerd. Met dat je bewust en langzaam beweegt wordt de ademhaling weer bewuster en dieper. Regelmatige en diepe ademhaling haalt je lichaam uit de stressmodus. Je voelt je fitter\, evenwichtiger en meer ontspannen. \n\n\n\n\nVerhogen lichaamsbewustzijn \nEen moderne West-Europeaan verwerkt per dag meer informatie dan iemand uit de Middeleeuwen in een heel jaar. De aandacht ligt zo veel bij het hoofd\, dat je het gevoel krijgt ‘niet meer in het lichaam te zitten’. Tijdens de Dru Yoga wordt met aandacht langzaam en vloeiend bewogen\, daardoor komt je aandacht weer in je lichaam en laat je eenvoudig je vermoeidheid los. \nOplossen van blokkades \nAanhoudend verkeerde houdingen of bewegingen\, stress\, maar ook fysieke of emotionele gebeurtenissen kunnen pijnlijke gewrichten en spieren tot gevolg hebben. Deze gevolgen kunnen zich uiteindelijk in de organen nestelen. Dru Yoga kent specifieke reeksen van oefeningen die dit proces omdraaien en het lichaam ontgiften. De natuurlijke balans in de organen wordt hersteld en door een herstelde juiste spierspanning kunnen bijvoorbeeld rug- en schouderklachten verminderen. \nDiepe ontspanning \nBij deze vorm van yoga is diepe ontspanning zeer belangrijk. Deze ontspanning zorgt ervoor dat de balans van lichaam en geest zich op diep niveau kan herstellen. Diepe ontspanning geeft nieuwe energie en meer levenslust. \nDru Yoga bij Mec Spirit \nDe lessen zijn op donderdag met uitzondering van schoolvakanties. \nDe eerste lessen in deze ruimte zijn gratis voor iedereen die zich aanmeldt.\nDe lessen duren elk anderhalf uur: 18.30 – 20.00 en 20.30 – 22.00. Kosten: €160\,- voor 13 weken.\nEr is een kennismakingsaanbod: 6 lessen voor €50\,-\, maar kom gerust langs voor een proefles  €10\,-.\nHet is in principe mogelijk om op elk moment in te stappen.
URL:https://mcspirit.nl/evenement/dru-yoga-vitaliteit-balans-en-diepe-ontspanning-3/
LOCATION:Mec Spirit Koetshuis Madoera\, Javalaan 24\, Baarn\, Utrecht\, 3742 CP\, Netherlands
ATTACH;FMTTYPE=image/jpeg:https://mcspirit.nl/wp-content/uploads/2016/06/blog-post-img-11a.jpg
END:VEVENT
BEGIN:VEVENT
DTSTART;TZID=Europe/Amsterdam:20171201T103000
DTEND;TZID=Europe/Amsterdam:20171201T130000
DTSTAMP:20260420T223637
CREATED:20171114T141211Z
LAST-MODIFIED:20171114T153338Z
UID:15204-1512124200-1512133200@mcspirit.nl
SUMMARY:8-weekse Mindfulnesstraining (Mindfulness Based Stress Reduction)
DESCRIPTION:8 vrijdagochtenden vanaf 6 oktober 2017 bij Mec Spirit in Baarn\nBFC Mindfulness & Compassie (Be Free & Connected)    \n\n\n\n\nMet het trainen van mindfulness\, trainen we vaardigheden die ondersteunend zijn voor balans\, stressvermindering en geluk. Betrouwbare wetenschappelijke onderzoeken onderbouwen dit.\n\nVoor wie? \no   Voor mensen die meer bewust en met aandacht willen leven\no   Voor mensen die beter met stress willen leren omgaan\no   Voor mensen die meer contact willen ervaren: met zichzelf en met hun omgeving\no   Voor mensen die vaardiger willen worden in afstemming en communicatie\no   Voor mensen die zich willen oefenen in aanvaarden van dat wat niet veranderd kan worden\no   Voor mensen die verlangen naar rust en bezinning \nHoe ziet een training eruit?  \nDe mindfulnesstraining is een groepstraining van 8 wekelijkse sessies van 2 uur en een kwartier. Elke sessie staat een thema centraal\, zoals ‘herkennen van automatische patronen’ of ‘toelaten wat er is’. Rondom dit thema wordt je uitgenodigd tot oefeningen en meditaties. Dit staat centraal. Door na het oefenen samen te reflecteren op wat je bent tegen gekomen\, ontwikkel je inzichten en vaardigheden die helpen om meer balans in je leven te brengen. De trainer heeft in haar bagage ruim 25 jaar aan ervaring en aan boeddhistische en westerse kennis op het gebied van bijvoorbeeld psychologie en neurowetenschap. Dit maakt dat wat gedeeld wordt in een breder perspectief ingebed kan worden. \nDe training is reeds 45 jaar geleden ontwikkeld door een professor J.Kabat-Zinn en sindsdien voortdurend gekoppeld aan wetenschappelijk onderzoek\, geëvalueerd en verbeterd. Enkele zorgverzekeraars vergoeden de training. Vraag dit zelf na bij jouw verzekering (en noteer naam van degene die je hebt gesproken!). Ook zijn werkgevers veelvuldig bereid de training te vergoeden in het kader van persoonlijke ontwikkeling of in het kader van arbeidsverzuimpreventie. \n\n\n\n\nDoor wie?  \nBarbara Doeleman – van Veldhoven geeft reeds 12 jaar trainingen in Baarn en omgeving en heeft de hoogst haalbare certificering in Europa (cat. 1 VMBN). Voor haar ligt de basis van haar trainerschap in wat zij noemt ‘mindful leven’; zlef verdiepen en onderhouden van haar beoefening. Naast dat zij de postdoctoraal Mindfulness heeft afgerond aan de Radboud Universiteit in Nijmegen\, volgt zij reeds 25 jaar internationaal lessen en retraites op het gebied van mindfulness\, meditatie\, vipassana\, yoga en psychologie. Tevens is zij als docent Mindfulness verbonden aan de Academie voor Medisch Specialisten en de VvAA en geeft zij les aan therapeuten van het Netwerk Chronische Pijn op het gebied van Mindfulness.
URL:https://mcspirit.nl/evenement/8-weekse-mindfulnesstraining-mindfulness-based-stress-reduction/
LOCATION:Mec Spirit Koetshuis Madoera\, Javalaan 24\, Baarn\, Utrecht\, 3742 CP\, Netherlands
ATTACH;FMTTYPE=image/png:https://mcspirit.nl/wp-content/uploads/2017/11/563.160.png
END:VEVENT
BEGIN:VEVENT
DTSTART;TZID=Europe/Amsterdam:20171010T100000
DTEND;TZID=Europe/Amsterdam:20171010T190000
DTSTAMP:20260420T223637
CREATED:20170905T071412Z
LAST-MODIFIED:20170905T071412Z
UID:15133-1507629600-1507662000@mcspirit.nl
SUMMARY:Masterclass Pepijn Happel 'Meer plezier\, purpose én prestatie door te floreren' (Her)ontdek de beste versie van jezelf
DESCRIPTION:Ervaar je te veel stress of is je (werk)plezier ver te zoeken? Dan heeft dat effect op je functioneren. En op je leven. Maar niet alleen dat van jou. Ook op dat van jouw dierbaren en de mensen waarmee je samenwerkt. Wil jij ook minder druk\, weinig stress\, meer (werk)plezier en beter samen kunnen werken? Stop dan met functioneren! Moet je uit je neus gaan zitten eten? Nee\, juist niet! Stop met functioneren\, maar start met floreren. \nWegens succes herhaald: minder functioneren\, méér floreren \nOp veler verzoek wordt dit najaar de 2e editie van deze masterclass georganiseerd. De masterclass staat open voor iedereen die graag aan de eigen ontwikkeling werkt en het beste uit zichzelf wil halen. Of dat nou privé of op de werkvloer is. Voor iedereen die een positieve boost aan zichzelf en een eventueel team wil geven. En voor iedereen die weet dat goed functioneren begint met goed in je vel zitten. Kortom\, deze masterclass is voor iedereen die het vuurtje weer wil aanwakkeren. \nHerken je dit?\n§  Je wordt geleefd door de waan van de (werk)dag.\n§  Je wilt wel wat meer betekenis ervaren in je werk/leven.\n§  Je voelt sterk de behoefte om in je eigen kracht te staan/op je best te zijn.\n§  Het duo werkdruk & werkstress komt je zeer bekend voor.\n§  Je bent verandermoe.\n§  De sfeer op de werkvloer is soms om te snijden.\n§  En de resultaten? (Laten we het daar maar niet over hebben …) \nAls jou dit bekend voorkomt\, moet er iets veranderen \nMisschien denk je: ‘Ja\, Pepijn\, jij hebt makkelijk praten.’ Nou echt niet! Want ik weet precies wat je doormaakt. Daarom weet ik zeker dat het kán. Begin 2014 zegde ik mijn vaste baan op\, bij het bedrijf waar ik 13 jaar als leidinggevende had gewerkt. Zonder (sociaal) plan\, zonder uitzicht op iets anders\, maar met één voornemen: ontdekken\, voelen en ervaren hoe en waar ik op mijn best ben. Ik zag plotseling haarscherp dat ik mezelf\, mijn waarden en mijn plezier langzaamaan was kwijtgeraakt in dat grote bedrijf. Dat ik al lange tijd meer aan het overleven was dan aan het leven. Noem het functioneren\, en steeds minder floreren. Met dat inzicht kwam ook direct het besef: zo wil ik het niet langer. Ik wil doen waar ik goed in ben én daarvan genieten. En dat kan jij ook! \nJe kunt weer plezier in je leven en het werk krijgen (en fluitend over de afdeling lopen).\nJe kunt een positieve boost aan jezelf en een eventueel team geven (zodat iedereen weer lekker samenwerkt).\nJe kunt mensen inspireren met een nieuw verhaal (zodat zelfs complexe veranderingen slagen).\nJe kunt – met of zonder team – mooie resultaten boeken (en die vieren). \n‘t Wordt tijd dat je serieus gaat floreren!\nFloreren is de krachtigste manier om goed te presteren en tegelijkertijd zoveel plezier te hebben\, dat je er anderen mee ‘besmet’. Zo haal je het beste uit jezelf\, maar ook uit een eventueel team. Niet alleen qua prestatie en productiviteit\, maar juist ook qua persoonlijke groei en purpose. Daarmee is floreren hét medicijn tegen verandermoeheid. Nieuwsgierig geworden naar floreren? \nDit ga je leren en ervaren tijdens de masterclass\nTijdens de masterclass maak je kennis met de basis van floreren en leer je hoe je simpel de beste versie van jezelf wordt en ook anderen hierbij kunt helpen. Je krijgt praktische tips en tools om je eigen floreren en dat van anderen vast te houden en te versterken. \n§  Je leert de ingrediënten kennen van jouw individuele floreerrecept – want dat is voor iedereen anders.\n§  Je kunt negativisme (op tijd) herkennen en ombuigen naar positieve zaken (zonder met je hoofd in de wolken te lopen).\n§  Je ontdekt hoe je jouw brein nog meer laat floreren door HOOFD CEO te worden.\n§  Je gaat begrijpen waarom de ROF-factor zo krankzinnig hoog is (alle succesvolle organisaties weten dit).\n§  Je gaat (her)ontdekken wie jij bent op je best (en hoe aanstekelijk dat is).\n§  Je maakt kennis met zinvolle floreerstrategieën en hoe je elkaar met floreren kunt versterken. \nHet belooft een dynamische\, praktische dag te worden vol actie en met voldoende tijd voor een terug- en vooruitblik. \nFloreren is niet ingewikkeld en je hoeft er ook geen super(wo)man voor te zijn \nHet enige wat je hoeft te doen is jezelf zijn. Zet je professionele masker gerust af en ontdek je hele – florerende – zelf. En onderzoek hoe je dat nóg beter kunt doen. De masterclass laat je zien dat kleine praktische stappen (en die volhouden!) de grootste impact hebben op je eigen welbevinden en dat van je omgeving. \nTijdens de masterclass gaan we het over deze topics hebben\n(en over nog veel meer andere)    \n§  Hoe het komt dat floreren soms zo moeilijk is.\n§  Wat de mindset is van een pure floreerder.\n§  Hoe jouw aanstekelijke floreerverhaal eruitziet.\n§  Hoe jij op je best bent.\n§  Hoe je anderen besmet met het floreervirus.\n§  Hoe je het overleg weer vrolijk en waardevol maakt.\n§  Hoe floreren van jou een completer mens maakt. \nJe investering\n– In jezelf\, in anderen en jullie goede humeur (en betere prestaties).   \nVoor deze masterclass betaal je 395 euro (exclusief btw). Daarvoor krijg je een interactieve\, speelse sessie van een dag\, met tips en oefeningen die niet langer duren dan het poetsen van je tanden. Je gaat naar huis met een concreet floreeractieplan waar je graag je tanden in zet. Verse koffie/thee\, frisdrank en een heerlijke gezonde boerenlunch zijn inbegrepen. \nKrijg jij een persoonlijk ontwikkelingsbudget van je baas? Dan is deze masterclass een mooie investering in je ontwikkeling. \nIedereen verdient het om te floreren \nIk gun iedereen puur floreren. Daarom ontvang je direct na aanmelding mijn gratis ebook ‘Floreer op de Werkvloer’ in je mailbox. Met drie slimme strategieën voor een florerende werkplek\, hét recept om de allerbeste versie van jezelf te zijn en simpele oefeningen om te floreren. \nDaarnaast krijg je van mij tijdens de masterclass vijf speciaal ontworpen floreeransichtkaarten cadeau. Op elke kaart staan drie inspirerende floreeroefeningen en tips. Totaal dus vijftien floreeroefeningen en nog meer tips! Daar kun je iemand anders mee verrassen. Zo kunnen jullie samen ervaren wat floreren je in de praktijk opbrengt en hoe besmettelijk het is. \nKom je met z’n tweeën of met meer? Profiteer van een gereduceerd tarief!\n\n‘Ja\, ik wil floreren en anderen daar graag van mee laten profiteren’    \nHoe zou je reageren als ik je uitnodig om te stoppen met functioneren? Geef jezelf een positieve boost\, gun jezelf en anderen meer floreren en schrijf je in voor de masterclass ‘Meer plezier\, purpose én prestatie door te floreren’.
URL:https://mcspirit.nl/evenement/masterclass-pepijn-happel-meer-plezier-purpose-en-prestatie-door-te-floreren-herontdek-de-beste-versie-van-jezelf/
LOCATION:Mec Spirit Koetshuis Madoera\, Javalaan 24\, Baarn\, Utrecht\, 3742 CP\, Netherlands
ATTACH;FMTTYPE=image/jpeg:https://mcspirit.nl/wp-content/uploads/2017/09/Pepijn-Happel-.jpeg
END:VEVENT
BEGIN:VEVENT
DTSTART;TZID=Europe/Amsterdam:20170904T210000
DTEND;TZID=Europe/Amsterdam:20170905T000000
DTSTAMP:20260420T223637
CREATED:20170829T101803Z
LAST-MODIFIED:20170829T105219Z
UID:15108-1504558800-1504569600@mcspirit.nl
SUMMARY:Workshop Kies en ze kiezen jou - Judith Webber
DESCRIPTION:Kies voor meer zingeving\, regie en (zelf)vertrouwen  \nDúrf te kiezen voor wie je bent\, creëer de randvoorwaarden zodat jij alles uit jezelf haalt\, zodat je in je organisatie hetzelfde kunt doen: anderen faciliteren ook alles uit zichzelf te halen! Met als effect: een florerende organisatie! \nDat betekent leiderschap durven pakken\, gaan staan voor jouw drive\, jouw stijl\, wie jij bent. Geen compromissen. Kijk naar wat een ander beter kan. Durf te kiezen voor wat écht bij jou past. \nIk pas dit principe al jaren toe met als effect dat organisaties mij precies voor wie ik ben en wat ik te brengen heb\, inhuren. Zonder dat ik acquisitie doe. Ik ben gewoon een magneet die exact het juiste werk\, de juiste klanten aantrekt!\n\nVoor wie? \nLeidinggevenden\, ondernemers\, directeuren\, CEO’s\, HR-managers/adviseurs die graag geïnspireerd willen worden hoe je meer zingeving\, regie en (zelf)vertrouwen in je werk kunt creëren. \nIn mijn vroegere vak als Human Resources adviseur hield ik me altijd al bezig met hoe je het meeste uit je bedrijf haalt\, hoe je een nieuwe koers uitzet en een zo perfect mogelijke match vindt met de mensen met wie je de klus klaart. In 12 jaar heb ik 12 bedrijven van binnen mogen zien en vanuit die brede kijk heb ik een model ontdekt van vragen die te simpel zijn voor woorden\, maar die maximaal effect hebben! Omdat ze zo wezenlijk zijn om te beantwoorden. Maak kennis met Kies en ze kiezen jou! \n 
URL:https://mcspirit.nl/evenement/workshop-kies-en-ze-kiezen-jou-judith-webber/
LOCATION:Utrecht
ATTACH;FMTTYPE=image/jpeg:https://mcspirit.nl/wp-content/uploads/2017/08/Judith-Webber.jpeg
END:VEVENT
END:VCALENDAR